BEGIN:VCALENDAR
VERSION:2.0
PRODID:-//Tukios.com/
BEGIN:VEVENT
UID:dbd61c17-0c18-4d6f-9e14-c09f533bb20b@www.finkandstonefh.com
DTSTAMP:20260421T175159Z
DTSTART:20260423T180000Z
DTEND:20260423T200000Z
SUMMARY:Visitation
DESCRIPTION:
URL:https://www.finkandstonefh.com/obituaries/karen-zimmerman
LOCATION:Curryville Mennonite Church 2704 Henrietta Rd  Martinsburg PA 
	16662
GEO:40.2642832;-78.3267531
END:VEVENT
END:VCALENDAR