BEGIN:VCALENDAR
VERSION:2.0
PRODID:-//Tukios.com/
BEGIN:VEVENT
UID:4eabfaf5-f625-4737-bf0f-86b362ab0219@www.finkandstonefh.com
DTSTAMP:20260421T174646Z
DTSTART:20260423T220000Z
DTEND:20260424T000000Z
SUMMARY:Visitation
DESCRIPTION:
URL:https://www.finkandstonefh.com/obituaries/karen-zimmerman
LOCATION:Curryville Mennonite Church 2704 Henrietta Rd  Martinsburg PA 
	16662
GEO:40.2642832;-78.3267531
END:VEVENT
END:VCALENDAR