BEGIN:VCALENDAR
VERSION:2.0
PRODID:-//Tukios.com/
BEGIN:VEVENT
UID:e3669681-61d0-498a-a021-791f520d692c@www.finkandstonefh.com
DTSTAMP:20260421T175113Z
DTSTART:20260424T140000Z
DTEND:20260424T150000Z
SUMMARY:Funeral Service
DESCRIPTION:
URL:https://www.finkandstonefh.com/obituaries/karen-zimmerman
LOCATION:Curryville Mennonite Church 2704 Henrietta Rd  Martinsburg PA 
	16662
GEO:40.2642832;-78.3267531
END:VEVENT
END:VCALENDAR