BEGIN:VCALENDAR
VERSION:2.0
PRODID:-//Tukios.com/
BEGIN:VEVENT
UID:21e1f0a7-0944-45b2-9e4a-6d603bd983dc@www.finkandstonefh.com
DTSTAMP:20260421T175113Z
DTSTART:20260427T140000Z
DTEND:20260427T150000Z
SUMMARY:Funeral Service
DESCRIPTION:
URL:https://www.finkandstonefh.com/obituaries/karen-zimmerman
LOCATION:NewLife Fairfield Church 503 3rd Ave. S.  Fairfield MT 59436
GEO:47.6117299;-111.9798409
END:VEVENT
END:VCALENDAR