BEGIN:VCALENDAR
VERSION:2.0
PRODID:-//Tukios.com/
BEGIN:VEVENT
UID:154b8694-4334-4b16-9815-b8e926bd4a20@www.finkandstonefh.com
DTSTAMP:20260422T021611Z
DTSTART:20260423T200000Z
DTEND:20260424T000000Z
SUMMARY:Visitation
DESCRIPTION:
URL:https://www.finkandstonefh.com/obituaries/tyler-ritchey
LOCATION: 300 East Spring Street  Martinsburg PA 16662
GEO:40.3060263;-78.3237581
END:VEVENT
END:VCALENDAR