BEGIN:VCALENDAR
VERSION:2.0
PRODID:-//Tukios.com/
BEGIN:VEVENT
UID:2a7c9ccd-9c5e-4d95-b58c-dcbc6d81c168@www.finkandstonefh.com
DTSTAMP:20260422T021820Z
DTSTART:20260424T160000Z
DTEND:20260424T180000Z
SUMMARY:Visitation
DESCRIPTION:
URL:https://www.finkandstonefh.com/obituaries/tyler-ritchey
LOCATION: 300 East Spring Street  Martinsburg PA 16662
GEO:40.3060263;-78.3237581
END:VEVENT
END:VCALENDAR