BEGIN:VCALENDAR
VERSION:2.0
PRODID:-//Tukios.com/
BEGIN:VEVENT
UID:78003068-fde4-407f-ac20-6e291370d6ae@www.finkandstonefh.com
DTSTAMP:20260422T022249Z
DTSTART:20260424T200000Z
DTEND:20260425T000000Z
SUMMARY:Visitation
DESCRIPTION:
URL:https://www.finkandstonefh.com/obituaries/tyler-ritchey
LOCATION: 300 East Spring Street  Martinsburg PA 16662
GEO:40.3060263;-78.3237581
END:VEVENT
END:VCALENDAR