BEGIN:VCALENDAR
VERSION:2.0
PRODID:-//Tukios.com/
BEGIN:VEVENT
UID:cb506171-1892-4341-9699-4194b069c90d@www.finkandstonefh.com
DTSTAMP:20260422T021525Z
DTSTART:20260425T140000Z
DTEND:20260425T150000Z
SUMMARY:Visitation
DESCRIPTION:
URL:https://www.finkandstonefh.com/obituaries/tyler-ritchey
LOCATION: 300 East Spring Street  Martinsburg PA 16662
GEO:40.3060263;-78.3237581
END:VEVENT
END:VCALENDAR