BEGIN:VCALENDAR
VERSION:2.0
PRODID:-//Tukios.com/
BEGIN:VEVENT
UID:39bcfb8b-0c7e-44aa-b3b9-12b3088973a8@www.finkandstonefh.com
DTSTAMP:20260422T021902Z
DTSTART:20260425T150000Z
DTEND:20260425T160000Z
SUMMARY:Funeral Service
DESCRIPTION:
URL:https://www.finkandstonefh.com/obituaries/tyler-ritchey
LOCATION: 300 East Spring Street  Martinsburg PA 16662
GEO:40.3060263;-78.3237581
END:VEVENT
END:VCALENDAR