BEGIN:VCALENDAR
VERSION:2.0
PRODID:-//Tukios.com/
BEGIN:VEVENT
UID:3fa59d23-05a7-4b58-bb83-fa4f34ecc87f@www.finkandstonefh.com
DTSTAMP:20260424T194604Z
DTSTART:20260428T140000Z
DTEND:20260428T160000Z
SUMMARY:Visitation
DESCRIPTION:
URL:https://www.finkandstonefh.com/obituaries/william-bill-hearn
LOCATION: 424 W. 2nd St.  Williamsburg PA 16693
GEO:40.461733;-78.202303
END:VEVENT
END:VCALENDAR