BEGIN:VCALENDAR
VERSION:2.0
PRODID:-//Tukios.com/
BEGIN:VEVENT
UID:22fd39ab-697d-4957-a650-0f0513b3cd85@www.finkandstonefh.com
DTSTAMP:20260424T194928Z
DTSTART:20260428T160000Z
DTEND:20260428T170000Z
SUMMARY:Funeral Service
DESCRIPTION:
URL:https://www.finkandstonefh.com/obituaries/william-bill-hearn
LOCATION: 424 W. 2nd St.  Williamsburg PA 16693
GEO:40.461733;-78.202303
END:VEVENT
END:VCALENDAR